BEGIN:VCALENDAR
PRODID:-//eluceo/ical//2.0/EN
VERSION:2.0
CALSCALE:GREGORIAN
BEGIN:VEVENT
UID:99605681eb73ff26ce28cbe5afbed12e
DTSTAMP:20260421T031046Z
SUMMARY:K'tanim: Preschool Program-Chanukah!
DESCRIPTION:Jewish Federation & Foundation of Rockland County\nCommunity Ca
 lendar\nhttps://jewishrockland.org/calendar/ktanim-preschool-program-chanu
 kah-1532449156\n\nParents and Grandparents are invited to bring their "lit
 tle ones" to RTR's free monthly Preschool Program. This program is designe
 d for ages 18 months to 4 years. This month we learn about Chanukah throug
 h wonderful interactive play\, music and crafts. Let us know you're coming
  by registering with the link provided.
DTSTART;TZID=America/New_York:20181202T090000
DTEND;TZID=America/New_York:20181202T100000
END:VEVENT
END:VCALENDAR
