BEGIN:VCALENDAR
PRODID:-//eluceo/ical//2.0/EN
VERSION:2.0
CALSCALE:GREGORIAN
BEGIN:VEVENT
UID:6da8a5bb379554bfccb65369fab65b9a
DTSTAMP:20260424T052542Z
SUMMARY:K'tanim: Preschool Program-Israel!
DESCRIPTION:Jewish Federation & Foundation of Rockland County\nCommunity Ca
 lendar\nhttps://jewishrockland.org/calendar/ktanim-preschool-program-israe
 l-1532451380\n\nParents and Grandparents are invited to bring their "littl
 e ones" to RTR's free monthly Preschool Program. This program is designed 
 for ages 18 months to 4 years. This month we learn about Israel through wo
 nderful interactive play\, music and crafts. Let us know you're coming by 
 registering with the link provided.
DTSTART;TZID=America/New_York:20190505T090000
DTEND;TZID=America/New_York:20190505T100000
END:VEVENT
END:VCALENDAR
