BEGIN:VCALENDAR
PRODID:-//eluceo/ical//2.0/EN
VERSION:2.0
CALSCALE:GREGORIAN
BEGIN:VEVENT
UID:bf4c5c7a6e8f1d3ab05c633b5b809e75
DTSTAMP:20260423T010317Z
SUMMARY:Latin Night at CSI
DESCRIPTION:Jewish Federation & Foundation of Rockland County\nCommunity Ca
 lendar\nhttps://jewishrockland.org/calendar/latin-night-at-csi-7520\n\nLat
 in Night at CSI
DTSTART;TZID=America/New_York:20131207T193000
DTEND;TZID=America/New_York:20131207T230000
END:VEVENT
END:VCALENDAR
