BEGIN:VCALENDAR
PRODID:-//eluceo/ical//2.0/EN
VERSION:2.0
CALSCALE:GREGORIAN
BEGIN:VEVENT
UID:c3ff3864bb8eb291eca9b8cac8ba9749
DTSTAMP:20260421T003751Z
SUMMARY:Latkes\, Vodka and Karaoke at CSI
DESCRIPTION:Jewish Federation & Foundation of Rockland County\nCommunity Ca
 lendar\nhttps://jewishrockland.org/calendar/latkes-vodka-and-karaoke-at-cs
 i-1446833814\n\nSaturday\, December 12\, 7 pm Latkes\, Vodka and Karaoke a
 t CSI\nCongregation Sons of Israel\n300 North Broadway\, Upper Nyack\, NY 
 10960\nJoin us for an evening of fun with Latkes\, Vodka\, and a presentat
 ion of your amazing talents via entertaining\, exciting\, and liberating K
 araoke!!...Come on down cause CSI's Got Talent...\nCost: $36 per person In
 cludes 1 drink and Lots of Latkes Adults only\nCongregation Sons of Israel
 \, 300 N. Broadway\, Upper Nyack\, NY 10960.\nFor more information and to 
 make a ...
DTSTART;TZID=America/New_York:20151212T190000
DTEND;TZID=America/New_York:20151212T220000
END:VEVENT
END:VCALENDAR
