BEGIN:VCALENDAR
PRODID:-//eluceo/ical//2.0/EN
VERSION:2.0
CALSCALE:GREGORIAN
BEGIN:VEVENT
UID:9c67ca1e7ee8cbed28691b7d0c4431e1
DTSTAMP:20260421T202732Z
SUMMARY:Lila & Jules Stern Premiere Brunch
DESCRIPTION:Jewish Federation & Foundation of Rockland County\nCommunity Ca
 lendar\nhttps://jewishrockland.org/calendar/lila--jules-stern-premiere-bru
 nch-1664381336\n\nAnnual brunch honoring outstanding women from Rockland C
 ounty
DTSTART;TZID=America/New_York:20230212T093000
DTEND;TZID=America/New_York:20230212T120000
END:VEVENT
END:VCALENDAR
