BEGIN:VCALENDAR
PRODID:-//eluceo/ical//2.0/EN
VERSION:2.0
CALSCALE:GREGORIAN
BEGIN:VEVENT
UID:2e6e0dbe25ff348655a2e5fc3a674257
DTSTAMP:20260421T022225Z
SUMMARY:Lion of Judah / Pomegranate Society Dinner
DESCRIPTION:Jewish Federation & Foundation of Rockland County\nCommunity Ca
 lendar\nhttps://jewishrockland.org/calendar/lion-of-judah-pomegranate-soci
 ety-dinner-169686\n\nWomen’s Philanthropy of the Jewish Federation of Ro
 ckland County invites Lion of Judah and Pomegranate Society Women* to a di
 nner with Major Meital Tzur from the Israel Defense Forces. Meital was in 
 charge of IDF medical supplies during Operation Cast Lead and served as me
 dical corps spokesperson during Operation Protective Edge. She played a ke
 y role in the IDF's Nepal earthquake rescue mission as well.\n\nThe dinner
  will be held at the home of Orli Irgang\; dietary laws observed.\n\nEvent
  ...
DTSTART;TZID=America/New_York:20151112T183000
DTEND;TZID=America/New_York:20151112T210000
END:VEVENT
END:VCALENDAR
