BEGIN:VCALENDAR
PRODID:-//eluceo/ical//2.0/EN
VERSION:2.0
CALSCALE:GREGORIAN
BEGIN:VEVENT
UID:a5d6b0542ddbe455039c4421a80b5b22
DTSTAMP:20260424T221947Z
SUMMARY:Live Music Coffee House with "Open Mic" - followed by Selichot Serv
 ice
DESCRIPTION:Jewish Federation & Foundation of Rockland County\nCommunity Ca
 lendar\nhttps://jewishrockland.org/calendar/live-music-coffee-house-with-o
 pen-mic---followed-by-selichot-service-1533181351\n\nSelichot marks the be
 ginning of the High Holy Day season.  \n\n\nWe welcome you to join us at 9
 :00pm for our annual &quot\;Pre-Selichot&quot\; Live Music Coffee House\, 
 with Open Mic  Audience Participation.  Featured at the Coffee House will 
 be members of NHC&#039\;s &quot\;Temple Dudes&quot\; Band\, the synagogue 
 choir\, along with an &quot\;Open Mic&quot\; for you to showcase your tale
 nts!  There is no charge\, it is open to the Community\, and light refresh
 ments will be served.  \n\nFollowing the Coffee House\, from approximately
 ...
DTSTART;TZID=America/New_York:20180901T210000
DTEND;TZID=America/New_York:20180901T230000
END:VEVENT
END:VCALENDAR
