BEGIN:VCALENDAR
PRODID:-//eluceo/ical//2.0/EN
VERSION:2.0
CALSCALE:GREGORIAN
BEGIN:VEVENT
UID:de323478986ba1184ca73b58855f70c9
DTSTAMP:20260419T235132Z
SUMMARY:Live Music Open Mic Coffee House followed by Selichot Service
DESCRIPTION:Jewish Federation & Foundation of Rockland County\nCommunity Ca
 lendar\nhttps://jewishrockland.org/calendar/live-music-open-mic-coffee-hou
 se-selichot-service\n\nWe welcome you to join us at our Live Music / Open 
 Mic Coffee House at Nanuet Hebrew Center on Saturday evening\, September 2
 4th. \n\nShare your talents\, or just sit back and enjoy the live music.  
 Bring your friends\, or meet new ones!\n\nCoffee House starts at 9pm.  It 
 is followed with our Selichot Service at 10:30pm.
DTSTART;TZID=America/New_York:20160924T210000
DTEND;TZID=America/New_York:20160924T223000
END:VEVENT
END:VCALENDAR
