BEGIN:VCALENDAR
PRODID:-//eluceo/ical//2.0/EN
VERSION:2.0
CALSCALE:GREGORIAN
BEGIN:VEVENT
UID:5cdd3a0ff9048e81d8a346b788db7978
DTSTAMP:20260420T050510Z
SUMMARY:Lots of Latkes Chanukah Party and Fund Raiser at CSI
DESCRIPTION:Jewish Federation & Foundation of Rockland County\nCommunity Ca
 lendar\nhttps://jewishrockland.org/calendar/lots-of-latkes-chanukah-party-
 and-fund-raiser-at-csi-1446833678\n\nWednesday\, December 9\, 5 – 7 pm L
 ots of Latkes Chanukah Party and Fund Raiser Congregation Sons of Israel 3
 00 North Broadway\, Upper Nyack\, NY 10960 Join CSI for the celebration. L
 atkes! Jelly Donuts!! Songs!!! and Crafts!!!!  Cost $5 per person Children
  under 4 FREE Make your own ceramic Hanukkiah*.  $20 per child (or adult i
 f you want to make one!)  *Hanukkiah will be painted that night and sent o
 ut to be glazed. Must be paid in advance.  RSVP by Wednesday\, November 18
 .  Congregation Sons ...
DTSTART;TZID=America/New_York:20151209T170000
DTEND;TZID=America/New_York:20151209T190000
END:VEVENT
END:VCALENDAR
