BEGIN:VCALENDAR
PRODID:-//eluceo/ical//2.0/EN
VERSION:2.0
CALSCALE:GREGORIAN
BEGIN:VEVENT
UID:40b3909cd1ac25f3727dcd1613bd5e89
DTSTAMP:20260425T113224Z
SUMMARY:Lots of Latkes Chanukah Party and Fundraiser
DESCRIPTION:Jewish Federation & Foundation of Rockland County\nCommunity Ca
 lendar\nhttps://jewishrockland.org/calendar/lots-of-latkes-chanukah-party-
 fundraiser-122116\n\nWednesday\, December 21\, 5 – 7 pm Lots of Latkes C
 hanukah Party and Fundraiser\nCongregation Sons of Israel\n300 North Broad
 way\, Upper Nyack\, NY 10960\nJoin CSI for the celebration. Latkes! Jelly 
 Donuts!! Songs!!! Crafts!!!!\nCost $10 per person Children under 4 FREE Th
 ere will be a variety of crafts available\, including candle making\, edib
 le dreidels\, and more!\nTo ensure there are enough crafts for everyone\, 
 Please RSVP by Wednesday\, December 19. For more information contact us at
  845-358-...
DTSTART;TZID=America/New_York:20161221T170000
DTEND;TZID=America/New_York:20161221T190000
END:VEVENT
END:VCALENDAR
