BEGIN:VCALENDAR
PRODID:-//eluceo/ical//2.0/EN
VERSION:2.0
CALSCALE:GREGORIAN
BEGIN:VEVENT
UID:dbdf2ba098d2a2e46cfdefd0135b7c18
DTSTAMP:20260423T222731Z
SUMMARY:Lots of Latkes Dinner and Family Fun Night with Matty Roxx at CSI
DESCRIPTION:Jewish Federation & Foundation of Rockland County\nCommunity Ca
 lendar\nhttps://jewishrockland.org/calendar/lots-of-latkes-dinner-and-fami
 ly-fun-night-with-matty-roxx-at-csi-1415303689\n\nLots of Latkes Dinner an
 d Family Fun Night with Matty Roxx – Dec. 17\, 5 – 7 pm\nWe are frying
  up a festival and you are all invited. Join us at CSI Nyack for Lots of L
 atkes and other great dinner food along with entertainment by Matty Roxx. 
 Cost: $18/family- $9/person\nCongregation Sons of Israel\, 300 N. Broadway
 \, Upper Nyack\, NY 10960. For more information and to make a reservation 
 call the CSI office 845-358-3767 or csioffice@optonline.net
DTSTART;TZID=America/New_York:20141217T170000
DTEND;TZID=America/New_York:20141217T190000
END:VEVENT
END:VCALENDAR
