BEGIN:VCALENDAR
PRODID:-//eluceo/ical//2.0/EN
VERSION:2.0
CALSCALE:GREGORIAN
BEGIN:VEVENT
UID:b6f5482690c50586b49b6c1411e26b12
DTSTAMP:20260420T140203Z
SUMMARY:Lots of Latkes party!
DESCRIPTION:Jewish Federation & Foundation of Rockland County\nCommunity Ca
 lendar\nhttps://jewishrockland.org/calendar/lots-of-latkes-party-csi-2017\
 n\nCraft-build your own menorah 5-5.30\nGather with our menorahs from home
  and light together 5.30 (bring your own candles!)\nDinner immediately fol
 lowing the menorah lighting\nIsraeli dancing 6:15 pm with a professional t
 eacher!\n\nRSVP/Questions Tina Roth: 845-222-2656\nKids Eat Free\nAdults $
 18/pp\nMenorah project $10/pp
DTSTART;TZID=America/New_York:20171213T170000
DTEND;TZID=America/New_York:20171213T190000
END:VEVENT
END:VCALENDAR
