BEGIN:VCALENDAR
PRODID:-//eluceo/ical//2.0/EN
VERSION:2.0
CALSCALE:GREGORIAN
BEGIN:VEVENT
UID:17a330217b1cd2cc3ec253229979b909
DTSTAMP:20260421T220307Z
SUMMARY:Mah Jongg Tournament
DESCRIPTION:Jewish Federation & Foundation of Rockland County\nCommunity Ca
 lendar\nhttps://jewishrockland.org/calendar/mah-jongg-tournament\n\nMah Jo
 ngg Tournament
DTSTART;TZID=America/New_York:20130602T090000
DTEND;TZID=America/New_York:20130602T163000
END:VEVENT
END:VCALENDAR
