BEGIN:VCALENDAR
PRODID:-//eluceo/ical//2.0/EN
VERSION:2.0
CALSCALE:GREGORIAN
BEGIN:VEVENT
UID:fc921619f1e51aeb2b7874b619c8b13a
DTSTAMP:20260423T145649Z
SUMMARY:Mah Jongg Tournament at CSI
DESCRIPTION:Jewish Federation & Foundation of Rockland County\nCommunity Ca
 lendar\nhttps://jewishrockland.org/calendar/mah-jongg-tournament-at-csi-74
 99\n\nMah Jongg Tournament at CSI
DTSTART;TZID=America/New_York:20131124T090000
DTEND;TZID=America/New_York:20131124T163000
END:VEVENT
END:VCALENDAR
