BEGIN:VCALENDAR
PRODID:-//eluceo/ical//2.0/EN
VERSION:2.0
CALSCALE:GREGORIAN
BEGIN:VEVENT
UID:6b2995e047b0bf07684a55d17b75cb5f
DTSTAMP:20260420T071044Z
SUMMARY:Major Threats to Israel
DESCRIPTION:Jewish Federation & Foundation of Rockland County\nCommunity Ca
 lendar\nhttps://jewishrockland.org/calendar/major-threats-to-israel\n\nThe
  next stop on Timna Mekaiten's "Israel on Wheels" tour is Beth Am Temple i
 n Pearl River. Timna is Federation's Community Shlicha\, here from Israel 
 to strengthen the bond between Rockland County and our homeland. The topic
  of Timna's lecture at Beth Am is "Major Threats to Israel." The event inc
 ludes breakfast at 9:00 AM and Timna's lecture will begin at 9:30 AM. This
  event is $10 and open to the public but pre-registration is required. Reg
 ister by calling Beth Am Temple at 845-735-5858 or ...
DTSTART;TZID=America/New_York:20150315T090000
DTEND;TZID=America/New_York:20150315T110000
END:VEVENT
END:VCALENDAR
