BEGIN:VCALENDAR
PRODID:-//eluceo/ical//2.0/EN
VERSION:2.0
CALSCALE:GREGORIAN
BEGIN:VEVENT
UID:9ce84c5f06282f164b42d2ca3e064bc2
DTSTAMP:20260425T173150Z
SUMMARY:Managing Depression Through The COVID-19 Pandemic
DESCRIPTION:Jewish Federation & Foundation of Rockland County\nCommunity Ca
 lendar\nhttps://jewishrockland.org/calendar/managing-depression-through-th
 e-covid-19-pandemic-1661051946\n\nSince the start of the COVID-19 pandemic
 \, there has been more than a 25% increase in the prevalence of anxiety an
 d depression worldwide. There has also been a 35% increase in successful s
 uicides and drug overdose deaths in the US. This presentation by Hal K. Ma
 rcus\, MA\, Master CASAC will provide participants with an update on how t
 he COVID Pandemic has impacted society in the US and how to manage depress
 ion and anxiety effectively.  This is a presentation under the Bart Bookma
 n Community...
DTSTART;TZID=America/New_York:20220915T190000
DTEND;TZID=America/New_York:20220915T203000
END:VEVENT
END:VCALENDAR
