BEGIN:VCALENDAR
PRODID:-//eluceo/ical//2.0/EN
VERSION:2.0
CALSCALE:GREGORIAN
BEGIN:VEVENT
UID:6af89ae9fe285c8a7e0d33a6645d493f
DTSTAMP:20260423T012641Z
SUMMARY:March into Spring with Habayit Tots!
DESCRIPTION:Jewish Federation & Foundation of Rockland County\nCommunity Ca
 lendar\nhttps://jewishrockland.org/calendar/march-into-spring-with-habayit
 -tots-1741028810\n\nCelebrate Shabbat (and spring)! With Morah Amy and her
  friends!\nActivities\, song\, dance and food!
DTSTART;TZID=America/New_York:20250329T100000
DTEND;TZID=America/New_York:20250329T110000
END:VEVENT
END:VCALENDAR
