BEGIN:VCALENDAR
PRODID:-//eluceo/ical//2.0/EN
VERSION:2.0
CALSCALE:GREGORIAN
BEGIN:VEVENT
UID:995201944c5fd8ffd9299149240aff59
DTSTAMP:20260423T024915Z
SUMMARY:March Madness Night Out
DESCRIPTION:Jewish Federation & Foundation of Rockland County\nCommunity Ca
 lendar\nhttps://jewishrockland.org/calendar/march-madness-night-out-147898
 \n\nIt's a March Madness Night Out!\n\nFor Rockland/Bergen parents of youn
 g children\n\nOpen bar | kosher snacks | $15 per person in advance and $20
  at the door\n\nPlay our hoops pool and win prizes! Game sheets will be so
 ld at the party\; $7 for one and $18 for three game sheets.\n\nQuestions? 
 Call Lara Epstein at 845-362-4200 x180 or e-mail lepstein@jewishrockland.o
 rg.\n\nMarch Madness Night Out Hosts\nRebecca & Mike Humphrey\nSandy & Ada
 m Meyers\nJill & Jeff Post\nMarissa & Ian Sherman\nJane & ...
DTSTART;TZID=America/New_York:20160319T200000
DTEND;TZID=America/New_York:20160319T230000
END:VEVENT
END:VCALENDAR
