BEGIN:VCALENDAR
PRODID:-//eluceo/ical//2.0/EN
VERSION:2.0
CALSCALE:GREGORIAN
BEGIN:VEVENT
UID:58f5c5364f62879117b992bab5855bfc
DTSTAMP:20260426T041046Z
SUMMARY:Matzah Brei on the Porch with CSI
DESCRIPTION:Jewish Federation & Foundation of Rockland County\nCommunity Ca
 lendar\nhttps://jewishrockland.org/calendar/matzah-brei-on-the-porch-with-
 csi-apr\n\nWednesday\, April 27– Matzah Brei on the Porch with CSI-- 7 
 – 8:30 pm at Art Cafe\nJoin CSI for a Pesach dinner out!! Enjoy yummy Ma
 tzah Brei served by our friends at the Art Café (65 S. Broadway\, Nyack\,
  NY-next to the Nyack Library). $5 per person (kids under 5 are free). Eve
 ryone is invited. Feel free to show up and drop in even if you have not RS
 VP'd. Payment is to Art Café at the door. Kosher for Passover supervision
  by Rabbi Russo. Congregation Sons of Israel\, 300 N. Broadway\, upper...
DTSTART;TZID=America/New_York:20160427T190000
DTEND;TZID=America/New_York:20160427T203000
END:VEVENT
END:VCALENDAR
