BEGIN:VCALENDAR
PRODID:-//eluceo/ical//2.0/EN
VERSION:2.0
CALSCALE:GREGORIAN
BEGIN:VEVENT
UID:7c00eb475a54c0d5819d1c4daf5e683b
DTSTAMP:20260423T203301Z
SUMMARY:Meet the Candidates
DESCRIPTION:Jewish Federation & Foundation of Rockland County\nCommunity Ca
 lendar\nhttps://jewishrockland.org/calendar/meet-the-candidates\n\nMeet th
 e Candidates
DTSTART;TZID=America/New_York:20130527T140000
DTEND;TZID=America/New_York:20130527T143000
END:VEVENT
END:VCALENDAR
