BEGIN:VCALENDAR
PRODID:-//eluceo/ical//2.0/EN
VERSION:2.0
CALSCALE:GREGORIAN
BEGIN:VEVENT
UID:b49f516dfc659f90a3bf7b14738fe40c
DTSTAMP:20260420T060705Z
SUMMARY:Mexican Purim Fiesta!
DESCRIPTION:Jewish Federation & Foundation of Rockland County\nCommunity Ca
 lendar\nhttps://jewishrockland.org/calendar/mexican-purim-fiesta-142351592
 7\n\nSpectacular Purim Event for the Entire Family!
DTSTART;TZID=America/New_York:20150305T170000
DTEND;TZID=America/New_York:20150305T203000
END:VEVENT
END:VCALENDAR
