BEGIN:VCALENDAR
PRODID:-//eluceo/ical//2.0/EN
VERSION:2.0
CALSCALE:GREGORIAN
BEGIN:VEVENT
UID:5e7a78494a558e2de6afa86cbb2c419c
DTSTAMP:20260423T044613Z
SUMMARY:Mid-Rockland Arts Festival and Holiday Crafts Fair
DESCRIPTION:Jewish Federation & Foundation of Rockland County\nCommunity Ca
 lendar\nhttps://jewishrockland.org/calendar/mid-rockland-arts-festival-and
 -holiday-crafts-fair-2017\n\nWe welcome you to join us at Nanuet Hebrew Ce
 nter's  EIGHTEENTH Mid-Rockland Arts Festival and Holiday Crafts Fair. \n\
 nSunday\, December 10th from 10am – 5pm.  \n\nArtists working in all med
 ia as well as artists’ representatives are invited to apply for gallery 
 and booth space. Volunteers are also needed to assist with all facets of t
 he arts festival. \n\nAlso featured will be live music entertainment by Th
 e Temple Dudes.\n\nFor more information\, including vendor info\, and to v
 olunteer\,...
DTSTART;TZID=America/New_York:20171210T100000
DTEND;TZID=America/New_York:20171210T235900
END:VEVENT
END:VCALENDAR
