BEGIN:VCALENDAR
PRODID:-//eluceo/ical//2.0/EN
VERSION:2.0
CALSCALE:GREGORIAN
BEGIN:VEVENT
UID:39bce4884e8da5299820d93b93dfc0a0
DTSTAMP:20260423T105101Z
SUMMARY:Midreshet: F3. Women in the Bible
DESCRIPTION:Jewish Federation & Foundation of Rockland County\nCommunity Ca
 lendar\nhttps://jewishrockland.org/calendar/midreshet-f3-women-in-the-bibl
 e\n\nInstructor: Rabbi Jill Hackell\nIn person or online (hybrid)\n\nThe w
 ay in which women navigate a patriarchal society has been an issue from an
 cient times until today. In this class we will focus on Biblical women. Be
 yond the Matriarchs\, stories of biblical women occur more often than you 
 might think - Abigail\, Bathsheba\, Deborah\, Tzipporah\, Rahav - to name 
 just a few. By focusing on the details of women's stories\, we can learn a
  lot about their characters\, the actions they took in order to a...
DTSTART;TZID=America/New_York:20251120T110000
DTEND;TZID=America/New_York:20251120T121500
END:VEVENT
END:VCALENDAR
