BEGIN:VCALENDAR
PRODID:-//eluceo/ical//2.0/EN
VERSION:2.0
CALSCALE:GREGORIAN
BEGIN:VEVENT
UID:3c5773a517e9c412660a31c6f7cca035
DTSTAMP:20260422T212148Z
SUMMARY:Milestone Member Shabbat at Temple Beth Sholom
DESCRIPTION:Jewish Federation & Foundation of Rockland County\nCommunity Ca
 lendar\nhttps://jewishrockland.org/calendar/milestone-member-shabbat-at-te
 mple-beth-sholom-1427920385-140771\n\nJoin Temple Beth Sholom for a specia
 l Shabbat service where 35 congregant families will be honored for their m
 ilestone commitment to supporting the temple for many years. Congregants h
 onored have been members for 36 to 57 years! Come help celebrate this beau
 tiful occasion\, a festive oneg will follow.
DTSTART;TZID=America/New_York:20150529T193000
DTEND;TZID=America/New_York:20150529T210000
END:VEVENT
END:VCALENDAR
