BEGIN:VCALENDAR
PRODID:-//eluceo/ical//2.0/EN
VERSION:2.0
CALSCALE:GREGORIAN
BEGIN:VEVENT
UID:4c5fffde4f0e3f29f820ec23c6536520
DTSTAMP:20260424T233515Z
SUMMARY:Military Bridge at West Clarkstown Jewish Center
DESCRIPTION:Jewish Federation & Foundation of Rockland County\nCommunity Ca
 lendar\nhttps://jewishrockland.org/calendar/military-bridge-at-west-clarks
 town-jewish-center-jun-2017\n\nJoin us for an afternoon of fun and play Mi
 litary Bridge at West Clarkstown Jewish Center located at 195 West Clarkst
 own Road\, New City N.Y. RSVP to the Synagogue Office (845) 352-0017. Peas
 e leave your name and phone number. Lunch\, Refreshments and Prizes. Cost:
  $25.00
DTSTART;TZID=America/New_York:20170625T120000
DTEND;TZID=America/New_York:20170625T160000
END:VEVENT
END:VCALENDAR
