BEGIN:VCALENDAR
PRODID:-//eluceo/ical//2.0/EN
VERSION:2.0
CALSCALE:GREGORIAN
BEGIN:VEVENT
UID:f8e67e55992b5f073dbccf72fbf757ae
DTSTAMP:20260419T213250Z
SUMMARY:Mindful Morning
DESCRIPTION:Jewish Federation & Foundation of Rockland County\nCommunity Ca
 lendar\nhttps://jewishrockland.org/calendar/mindful-morning-rjfs\n\nPlease
  join us on the first Wednesday of each month for mindfulness\, meditation
  & other techniques to reduce stress and anxiety to help attain a higher s
 tate of well-being.
DTSTART;TZID=America/New_York:20180207T110000
DTEND;TZID=America/New_York:20180207T120000
END:VEVENT
END:VCALENDAR
