BEGIN:VCALENDAR
PRODID:-//eluceo/ical//2.0/EN
VERSION:2.0
CALSCALE:GREGORIAN
BEGIN:VEVENT
UID:c50c88fd50835ff46df75b3630820935
DTSTAMP:20260421T075958Z
SUMMARY:Mini Maccabi in Rockland
DESCRIPTION:Jewish Federation & Foundation of Rockland County\nCommunity Ca
 lendar\nhttps://jewishrockland.org/calendar/mini-maccabi-in-rockland-12087
 6\n\nMini Maccabi for athletes ages 9 and 10.
DTSTART;TZID=America/New_York:20150517T090000
DTEND;TZID=America/New_York:20150517T150000
END:VEVENT
END:VCALENDAR
