BEGIN:VCALENDAR
PRODID:-//eluceo/ical//2.0/EN
VERSION:2.0
CALSCALE:GREGORIAN
BEGIN:VEVENT
UID:6d56465114eba6181265be471f5ad010
DTSTAMP:20260420T014009Z
SUMMARY:"Miriam's Seder" at Nanuet Hebrew Center
DESCRIPTION:Jewish Federation & Foundation of Rockland County\nCommunity Ca
 lendar\nhttps://jewishrockland.org/calendar/miriams-seder-at-nanuet-hebrew
 -center-1553270524\n\nJoin us at &ldquo\;Miriam&rsquo\;s Seder&rdquo\;.  6
 :00pm at Nanuet Hebrew Center.  Geared for all women of Bat Mitzvah age an
 d above\, Miriam&rsquo\;s Seder celebrates the strength\, vitality and her
 oism of Jewish Women who have dared to take risks &ndash\; large and small
  &ndash\; to better the world around them. A minimum donation of $5 is req
 uired to hold your spot. Light refreshments will be served. Reservations a
 re required by April 1st. Please call the NHC Office at (845) 708-9181 or 
 e-mail office@nanuethc.org to make your...
DTSTART;TZID=America/New_York:20190410T180000
DTEND;TZID=America/New_York:20190410T200000
END:VEVENT
END:VCALENDAR
