BEGIN:VCALENDAR
PRODID:-//eluceo/ical//2.0/EN
VERSION:2.0
CALSCALE:GREGORIAN
BEGIN:VEVENT
UID:1d4f4ce180c08a0fc9e6fe82662171a4
DTSTAMP:20260421T100956Z
SUMMARY:Mission to Morocco
DESCRIPTION:Jewish Federation & Foundation of Rockland County\nCommunity Ca
 lendar\nhttps://jewishrockland.org/calendar/mission-to-morocco-125320\n\nJ
 oin the Jewish Federation of Rockland County on an unforgettable mission t
 o Jewish Morocco! Learn more here.
DTSTART;TZID=America/New_York:20150308T090000
DTEND;TZID=America/New_York:20150316T090000
END:VEVENT
END:VCALENDAR
