BEGIN:VCALENDAR
PRODID:-//eluceo/ical//2.0/EN
VERSION:2.0
CALSCALE:GREGORIAN
BEGIN:VEVENT
UID:2daeec11d1f5740da9cae8f663d853b0
DTSTAMP:20260419T123125Z
SUMMARY:Mitzvah Weekend 
DESCRIPTION:Jewish Federation & Foundation of Rockland County\nCommunity Ca
 lendar\nhttps://jewishrockland.org/calendar/mitzvah-weekend-1411064307-108
 977\n\nIt's Mitzvah Weekend at the OJC (11/21 to 11/23). There are events 
 all weekend for children and adults. At 10AM on Sunday morning\, bring you
 r artistic side and help create our family mural which will hang on the pl
 ayground fence outside the OJC.
DTSTART;TZID=America/New_York:20141123T100000
DTEND;TZID=America/New_York:20141123T235959
END:VEVENT
END:VCALENDAR
