BEGIN:VCALENDAR
PRODID:-//eluceo/ical//2.0/EN
VERSION:2.0
CALSCALE:GREGORIAN
BEGIN:VEVENT
UID:3b8c95f230dc9b1f8b458ef799b24685
DTSTAMP:20260421T112430Z
SUMMARY:MJC Community Passover Seder
DESCRIPTION:Jewish Federation & Foundation of Rockland County\nCommunity Ca
 lendar\nhttps://jewishrockland.org/calendar/mjc-community-passover-seder-2
 018\n\nJoin MJC  for a Community Passover Seder on the Second Night of Pas
 sover\, led by Rabbi Finkelstein and Cantor Rubin.\nMaariv will begin at 7
 :15 pm\, and the Seder will begin promptly at 7:30 pm.  Cost is $50 per pe
 rson\, $36 for children under 13.
DTSTART;TZID=America/New_York:20180331T191500
DTEND;TZID=America/New_York:20180331T220000
END:VEVENT
END:VCALENDAR
