BEGIN:VCALENDAR
PRODID:-//eluceo/ical//2.0/EN
VERSION:2.0
CALSCALE:GREGORIAN
BEGIN:VEVENT
UID:ff0fd3cc80e7500faeb1133037033d03
DTSTAMP:20260420T190220Z
SUMMARY:MJC Men's Club:  6th Annual Steak in the Sukkah
DESCRIPTION:Jewish Federation & Foundation of Rockland County\nCommunity Ca
 lendar\nhttps://jewishrockland.org/calendar/mjc-mens-club-6th-annual-steak
 -in-the-sukkah-2017\n\nMJC Men's Club's 6th Annual Steak in the Sukkah. Co
 st is $40 per person or $70 per couple\, $20 for kids under 16. For reserv
 ations\, please contact Adam Goodman at natsup1@verizon.net by October 6th
 .
DTSTART;TZID=America/New_York:20171010T190000
DTEND;TZID=America/New_York:20171010T220000
END:VEVENT
END:VCALENDAR
