BEGIN:VCALENDAR
PRODID:-//eluceo/ical//2.0/EN
VERSION:2.0
CALSCALE:GREGORIAN
BEGIN:VEVENT
UID:fa259768cd4322a2a933de0259eb1062
DTSTAMP:20260424T220947Z
SUMMARY:MJC's Shabbat in Pajamas
DESCRIPTION:Jewish Federation & Foundation of Rockland County\nCommunity Ca
 lendar\nhttps://jewishrockland.org/calendar/mjcs-shabbat-in-pajamas-155326
 3629\n\nJoin Rabbi Joshua S. Finkelstein and Cantor Michelle Rubin for  Sh
 abbat in Pajamas\, geared toward children from birth to 6 years old and th
 eir families. The program includes a free dairy dinner.
DTSTART;TZID=America/New_York:20190405T174500
DTEND;TZID=America/New_York:20190405T190000
END:VEVENT
END:VCALENDAR
