BEGIN:VCALENDAR
PRODID:-//eluceo/ical//2.0/EN
VERSION:2.0
CALSCALE:GREGORIAN
BEGIN:VEVENT
UID:eafc40077b72e7e14bbd0846d784b979
DTSTAMP:20260424T110446Z
SUMMARY:MLK Jr Day of Serve at NCJC
DESCRIPTION:Jewish Federation & Foundation of Rockland County\nCommunity Ca
 lendar\nhttps://jewishrockland.org/calendar/mlk-jr-day-of-serve-at-ncjc-17
 35311730\n\nBring your donations\, helping hands and big smiles to help th
 ose in need! Donate coins to be rolled\, items for craft bags and toiletri
 es\, among other items\, which we will package and distribute to those in 
 need!
DTSTART;TZID=America/New_York:20250119T103000
DTEND;TZID=America/New_York:20250119T120000
END:VEVENT
END:VCALENDAR
