BEGIN:VCALENDAR
PRODID:-//eluceo/ical//2.0/EN
VERSION:2.0
CALSCALE:GREGORIAN
BEGIN:VEVENT
UID:bc8e538e464c14797d42e11cc7fa1273
DTSTAMP:20260421T150726Z
SUMMARY:Monday Evening Minyan
DESCRIPTION:Jewish Federation & Foundation of Rockland County\nCommunity Ca
 lendar\nhttps://jewishrockland.org/calendar/monday-evening-minyan-16402712
 49\n\nIn person evening minyan - All attendees must be vaccinated includin
 g booster shot as well as wearing a mask that covers their mouth and nose 
 at all times. Please call the office to confirm there have been no changes
  to the service. Phone: 845-708-9181
DTSTART;TZID=America/New_York:20220103T193000
DTEND;TZID=America/New_York:20220103T201500
END:VEVENT
END:VCALENDAR
