BEGIN:VCALENDAR
PRODID:-//eluceo/ical//2.0/EN
VERSION:2.0
CALSCALE:GREGORIAN
BEGIN:VEVENT
UID:1d8f29154cecf365dea3d108be85394e
DTSTAMP:20260422T192803Z
SUMMARY:Monster Mini Golf  Pajama Party for Pajama Program
DESCRIPTION:Jewish Federation & Foundation of Rockland County\nCommunity Ca
 lendar\nhttps://jewishrockland.org/calendar/monster-mini-golf-pajama-progr
 am\n\nChildren and parents are encouraged to show up in their pajamas and 
 bring with them either a new pair of pajamas and/or a new book and monetar
 y donations can also be accepted. Cookies and hot chocolate for all partic
 ipants will be provided by the Corner Bakery Cafe also located in Nanuet. 
 \n\nIf you plan to go\, you can make a reservation in advance by calling M
 onster Mini Golf at 845-624-6464. Pajamas and books should be new and unus
 ed and the pajamas should be a complete set or nightgown...
DTSTART;TZID=America/New_York:20141218T180000
DTEND;TZID=America/New_York:20141218T210000
END:VEVENT
END:VCALENDAR
