BEGIN:VCALENDAR
PRODID:-//eluceo/ical//2.0/EN
VERSION:2.0
CALSCALE:GREGORIAN
BEGIN:VEVENT
UID:a0a27e3f89a5a9273ac4edab0d81cc6f
DTSTAMP:20260423T200617Z
SUMMARY:Montebello Jewish Center's Bima to Broadway V
DESCRIPTION:Jewish Federation & Foundation of Rockland County\nCommunity Ca
 lendar\nhttps://jewishrockland.org/calendar/montebello-jewish-centers-bima
 -to-broadway-v-1572292905\n\nMontebello Jewish Center proudly presents Bim
 a to Broadway V.  MJC&#039\;s Cantor Michelle Rubin will perform\, along w
 ith other local cantors and rabbi and MJC&#039\;s adult\, children&#039\;s
  and teen choirs.  The performance begins at 8:00 pm\, and will be followe
 d by a gala dessert reception. Admission is $36 in advance or $40 at the d
 oor.  Children under 13 are free.  For tickets or more information\, conta
 ct the MJC office at office@montebellojc.org or 845-357-2430.
DTSTART;TZID=America/New_York:20191116T200000
DTEND;TZID=America/New_York:20191116T220000
END:VEVENT
END:VCALENDAR
