BEGIN:VCALENDAR
PRODID:-//eluceo/ical//2.0/EN
VERSION:2.0
CALSCALE:GREGORIAN
BEGIN:VEVENT
UID:7a9f18db770a91e8b0a15e37c6647440
DTSTAMP:20260420T012048Z
SUMMARY:Montebello Jewish Center's Latkes\, Vodkas & Babkas
DESCRIPTION:Jewish Federation & Foundation of Rockland County\nCommunity Ca
 lendar\nhttps://jewishrockland.org/calendar/montebello-jewish-centers-latk
 es-vodkas--babkas-1574363708-335033\n\nJoin Montebello Jewish Center for L
 atkes\, Vodkas & Babkas -- a fabulous evening of food\, drinks and Team Tr
 ivia. Make your own ice cream sundae and see if you can win a prize in the
  trivia contest with the team you bring or the one you form that night!
DTSTART;TZID=America/New_York:20191214T193000
DTEND;TZID=America/New_York:20191214T220000
END:VEVENT
END:VCALENDAR
