BEGIN:VCALENDAR
PRODID:-//eluceo/ical//2.0/EN
VERSION:2.0
CALSCALE:GREGORIAN
BEGIN:VEVENT
UID:9d024dadd429ba41321afbd39e75ab4b
DTSTAMP:20260423T112342Z
SUMMARY:Monthly Thursday Bingo At Beth Am Temple
DESCRIPTION:Jewish Federation & Foundation of Rockland County\nCommunity Ca
 lendar\nhttps://jewishrockland.org/calendar/monthly-thursday-bingo-at-beth
 -am-temple\n\nBeth Am Temple hosts monthly Thursday evening Bingo games 
DTSTART;TZID=America/New_York:20170202T193000
DTEND;TZID=America/New_York:20170202T220000
END:VEVENT
END:VCALENDAR
