BEGIN:VCALENDAR
PRODID:-//eluceo/ical//2.0/EN
VERSION:2.0
CALSCALE:GREGORIAN
BEGIN:VEVENT
UID:b5c9e1476d8519458aeb86e176ba8772
DTSTAMP:20260426T041629Z
SUMMARY:Movie and a Meal
DESCRIPTION:Jewish Federation & Foundation of Rockland County\nCommunity Ca
 lendar\nhttps://jewishrockland.org/calendar/movie-and-a-meal\n\nMovie and 
 a Meal
DTSTART;TZID=America/New_York:20130309T193000
DTEND;TZID=America/New_York:20130309T220000
END:VEVENT
END:VCALENDAR
