BEGIN:VCALENDAR
PRODID:-//eluceo/ical//2.0/EN
VERSION:2.0
CALSCALE:GREGORIAN
BEGIN:VEVENT
UID:2418aa7860a37b5242675f8a40f2ab79
DTSTAMP:20260421T142402Z
SUMMARY:Movie Night at NCJC
DESCRIPTION:Jewish Federation & Foundation of Rockland County\nCommunity Ca
 lendar\nhttps://jewishrockland.org/calendar/movie-night-at-ncjc-1701282089
 \n\nCome and see the new trolls movie! Pizza dinner and havdalah included!
DTSTART;TZID=America/New_York:20231216T170000
DTEND;TZID=America/New_York:20231216T193000
END:VEVENT
END:VCALENDAR
