BEGIN:VCALENDAR
PRODID:-//eluceo/ical//2.0/EN
VERSION:2.0
CALSCALE:GREGORIAN
BEGIN:VEVENT
UID:08d4a771f1f191a8ab942947e05b3f6f
DTSTAMP:20260419T211507Z
SUMMARY:Multi-Family Community Garage Sale at Nanuet Hebrew Center
DESCRIPTION:Jewish Federation & Foundation of Rockland County\nCommunity Ca
 lendar\nhttps://jewishrockland.org/calendar/multi-family-community-garage-
 sale-at-nanuet-hebrew-center-aug\n\nA Multi-Family Community Garage Sale w
 ill be held on Sunday\, August 13th in the front parking lot at Nanuet Heb
 rew Center in New City\, NY.\n\nThe Sale runs 9 AM to 4 PM\, rain or shine
 .\n\nNanuet Hebrew Center is located at 411 South Little Tor Road (just of
 f exit 10 of the Palisades Parkway) in New City\, NY  10956.\n\nVendors an
 d others from the community are welcome to rent a parking lot space to sel
 l their wares for only $25 per day.  Vendors may bring their own table(s) 
 or rent one for $5...
DTSTART;TZID=America/New_York:20170813T090000
DTEND;TZID=America/New_York:20170813T160000
END:VEVENT
END:VCALENDAR
