BEGIN:VCALENDAR
PRODID:-//eluceo/ical//2.0/EN
VERSION:2.0
CALSCALE:GREGORIAN
BEGIN:VEVENT
UID:48d174fb69728f25c1154382d4b9e56e
DTSTAMP:20260420T092009Z
SUMMARY:Munchkins and Mishpacha at CSI
DESCRIPTION:Jewish Federation & Foundation of Rockland County\nCommunity Ca
 lendar\nhttps://jewishrockland.org/calendar/munchkins-and-mishpacha-at-csi
 -1413836050\n\nMunchkins and Mishpacha (Parent/Caregiver and Me)\nFridays 
 – Oct. 24\, 31\, Nov. 7\, 14\, 21\, Dec. 5\, 12\, and 19 - 10-11 a.m.\n
 “Mommy and Me” but for either/both parents\, grandparents and caregive
 rs with a Jewish Twist including celebrating Shabbat together and learning
  new Hebrew words. Children ages newborn to 2 years with parents/caregiver
 s. Cost $18/session\nCongregation Sons of Israel\, 300 N. Broadway\, Upper
  Nyack\, NY 10960. For more information and to register call the CSI offic
 e 845-...
DTSTART;TZID=America/New_York:20141024T100000
DTEND;TZID=America/New_York:20141024T110000
END:VEVENT
END:VCALENDAR
