BEGIN:VCALENDAR
PRODID:-//eluceo/ical//2.0/EN
VERSION:2.0
CALSCALE:GREGORIAN
BEGIN:VEVENT
UID:e55f64f4f5726684e72f42f81d82b60c
DTSTAMP:20260422T144304Z
SUMMARY:Munich 11 Commemoration
DESCRIPTION:Jewish Federation & Foundation of Rockland County\nCommunity Ca
 lendar\nhttps://jewishrockland.org/calendar/munich-11-commemoration-155603
 9909\n\nCommemorate Munich 11
DTSTART;TZID=America/New_York:20190917T194500
DTEND;TZID=America/New_York:20190917T204500
END:VEVENT
END:VCALENDAR
