BEGIN:VCALENDAR
PRODID:-//eluceo/ical//2.0/EN
VERSION:2.0
CALSCALE:GREGORIAN
BEGIN:VEVENT
UID:8f67e6fddb203d629565e83f824154d3
DTSTAMP:20260420T160645Z
SUMMARY:Munich 11 Commemoration
DESCRIPTION:Jewish Federation & Foundation of Rockland County\nCommunity Ca
 lendar\nhttps://jewishrockland.org/calendar/munich-11-commemoration-2017\n
 \nVisit jccrockland.org for more information.
DTSTART;TZID=America/New_York:20170924T120000
DTEND;TZID=America/New_York:20170924T140000
END:VEVENT
END:VCALENDAR
