BEGIN:VCALENDAR
PRODID:-//eluceo/ical//2.0/EN
VERSION:2.0
CALSCALE:GREGORIAN
BEGIN:VEVENT
UID:e062331fdb8b1e92f6b8a6dfea973660
DTSTAMP:20260425T162842Z
SUMMARY:Munich 11 Commemoration
DESCRIPTION:Jewish Federation & Foundation of Rockland County\nCommunity Ca
 lendar\nhttps://jewishrockland.org/calendar/munich-11-commemoration-63144\
 n\nJoin JCC Rockland at our memorial sculpture as we remember the 11 athle
 tes on the 42nd anniversary.
DTSTART;TZID=America/New_York:20140907T100000
DTEND;TZID=America/New_York:20140907T110000
END:VEVENT
END:VCALENDAR
