BEGIN:VCALENDAR
PRODID:-//eluceo/ical//2.0/EN
VERSION:2.0
CALSCALE:GREGORIAN
BEGIN:VEVENT
UID:96b9edd9251bd4a1742f212038d06451
DTSTAMP:20260425T222051Z
SUMMARY:The Music and Stories of Yehudah Katz
DESCRIPTION:Jewish Federation & Foundation of Rockland County\nCommunity Ca
 lendar\nhttps://jewishrockland.org/calendar/music-of-yehudah-katz-132313\n
 \nJoin Rockland Federation for a free concert!\n\nYehudah Katz represents 
 an exciting new wave of Israeli musical artists. He was the founder and le
 ader of the popular Israeli Jewish rock and soul band Reva L'sheva. Fusing
  music with a spiritual calling\, Katz’s voice reaches into your heart a
 nd calls you to get up and dance.\n\nJoin Yehudah in an intimate setting. 
 Listen\, sing along and enjoy a personal\, enlightening experience. Pre-re
 gistration required. FREE 
DTSTART;TZID=America/New_York:20150226T193000
DTEND;TZID=America/New_York:20150226T210000
END:VEVENT
END:VCALENDAR
