BEGIN:VCALENDAR
PRODID:-//eluceo/ical//2.0/EN
VERSION:2.0
CALSCALE:GREGORIAN
BEGIN:VEVENT
UID:14d7c1a962c4bc1d0eeb200b794fbb99
DTSTAMP:20260420T170716Z
SUMMARY:Musical Open House at WCJC with World-Famous a Capella Group Six13
DESCRIPTION:Jewish Federation & Foundation of Rockland County\nCommunity Ca
 lendar\nhttps://jewishrockland.org/calendar/musical-open-house-wcjc-six13-
 113034\n\nMusical Shabbat Open House with Six13 at WCJC\, and Six13 Family
  Concert.  Co-sponsored by Rockland Jewish Academy
DTSTART;TZID=America/New_York:20141205T180000
DTEND;TZID=America/New_York:20141207T140000
END:VEVENT
END:VCALENDAR
