BEGIN:VCALENDAR
PRODID:-//eluceo/ical//2.0/EN
VERSION:2.0
CALSCALE:GREGORIAN
BEGIN:VEVENT
UID:2791377cf07bbb1631eaf387a24a7e2f
DTSTAMP:20260425T004844Z
SUMMARY:Musical Shabbat with Pizmon at the Orangetown Jewish Center
DESCRIPTION:Jewish Federation & Foundation of Rockland County\nCommunity Ca
 lendar\nhttps://jewishrockland.org/calendar/musical-shabbat-with-pizmon-at
 -the-orangetown-jewish-center-1706806790\n\nJoin OJC for Saturday morning 
 Shabbat services with Pizmon singers and then for Havdalah services at 7pm
  with Pizmon concert to follow
DTSTART;TZID=America/New_York:20240203T093000
DTEND;TZID=America/New_York:20240203T190000
END:VEVENT
END:VCALENDAR
