BEGIN:VCALENDAR
PRODID:-//eluceo/ical//2.0/EN
VERSION:2.0
CALSCALE:GREGORIAN
BEGIN:VEVENT
UID:d887d70ddd70f59c10ec0eb77c79a2b1
DTSTAMP:20260420T002044Z
SUMMARY:My German Friend | JCC Rockland Film Festival
DESCRIPTION:Jewish Federation & Foundation of Rockland County\nCommunity Ca
 lendar\nhttps://jewishrockland.org/calendar/my-german-friend-jcc-rockland-
 film-festival-61947\n\nMy German Friend A German-Jewish girl and the son o
 f an exiled Nazi colonel form an enduring bond in Argentina in MY GERMAN F
 RIEND\, an epic love story that distills 30 years of personal and politica
 l postwar history. The film opens in 1950s Buenos Aires where Jews and Naz
 is\, having fled Europe\, are thrown together in a foreign land. As the ch
 ildren of affluent German emigrants\, Sulamit Löwenstein (Celeste Cid) an
 d Friedrich Burg (Max Riemelt) first meet as next door neighbors and becom
 e inst...
DTSTART;TZID=America/New_York:20140429T193000
DTEND;TZID=America/New_York:20140429T220000
END:VEVENT
END:VCALENDAR
